BEGIN:VCALENDAR
VERSION:2.0
PRODID:-//eventon.com NONSGML v1.0//EN
CALSCALE:GREGORIAN
METHOD:PUBLISH
BEGIN:VEVENT
UID:69e6305c8fe7c
DTSTAMP:20260420T135540Z
DTSTART:20220406T070000Z
DTEND:20220406T074500Z
LOCATION:Webinar
SUMMARY:Webinar «Menschenrechtliche Sorgfalt in der Handelsbranche – Wie starten?»
DESCRIPTION:Um die Umsetzung der UNO-Leitprinzipien für Wirtschaft und Men
 schenrechte in der Schweiz zu fördern\,  werden wir in Zusammenarbeit mit 
 dem Bund (SECO/EDA)\,  dem GCNSL und der focusright gmbh ein Webinar zur me
 nschenrechtlichen Sorgfaltsprüfung von Unternehmen durchführen. Diese ist
  insbesondere deshalb wichtig\,  weil immer mehr Schweizer Unternehmen dire
 kt oder indirekt von[..]\nhttps://handelsverband.swiss/events/webinar-mensc
 henrechtliche-sorgfalt-in-der-handelsbranche-wie-starten-2/
URL:https://handelsverband.swiss/events/webinar-menschenrechtliche-sorgfalt-in-der-handelsbranche-wie-starten-2/
END:VEVENT
END:VCALENDAR