BEGIN:VCALENDAR
VERSION:2.0
PRODID:-//eventon.com NONSGML v1.0//EN
CALSCALE:GREGORIAN
METHOD:PUBLISH
BEGIN:VEVENT
UID:69ecd15b6d53a
DTSTAMP:20260425T143611Z
DTSTART:20240507T063000Z
DTEND:20240507T110000Z
LOCATION:Bildungszentrum Sihlpost Sihlpostgasse 2\,  8004 Zürich
SUMMARY:Veranstaltung @HANDELSVERBAND.swiss Nachhaltigkeit
DESCRIPTION:Gemeinsam für eine nachhaltigere Zukunft im Detailhandel der S
 chweiz Informieren Sie sich an unserer Veranstaltung am 7. Mai 2024 über d
 ie neuesten Nachhaltigkeitstrends im Detailhandel\,  tauschen Sie sich mit 
 Experten aus und lassen Sie sich von Erfolgsgeschichten beflügeln. Wir wer
 den innovative Fallstudien betrachten und praktische Werkzeuge für die Ums
 etzung von[..]\nhttps://handelsverband.swiss/fr/events/fruehstuecksveransta
 ltung-nachhaltigkeit/
URL:https://handelsverband.swiss/fr/events/fruehstuecksveranstaltung-nachhaltigkeit/
END:VEVENT
END:VCALENDAR