BEGIN:VCALENDAR
VERSION:2.0
PRODID:-//eventon.com NONSGML v1.0//EN
CALSCALE:GREGORIAN
METHOD:PUBLISH
BEGIN:VEVENT
UID:69ecead22226c
DTSTAMP:20260425T162450Z
DTSTART:20240508T063000Z
DTEND:20240508T110000Z
LOCATION:Hôtel Continental Pl. de la Gare 2\,  1003 Lausanne
SUMMARY:Événement @ASSOCIATION DE COMMERCE.swiss : Durabilité
DESCRIPTION:Ensemble pour un avenir plus durable dans le commerce de détai
 l en Suisse Venez vous informer sur les dernières tendances en matière de
  durabilité dans le commerce de détail\,  vous échangez avec des experts
  et laissez-vous inspirer par des histoires de réussite. Lors de notre év
 énement du 8 mai 2024[..]\nhttps://handelsverband.swiss/fr/events/evenemen
 t-durabilite/
URL:https://handelsverband.swiss/fr/events/evenement-durabilite/
END:VEVENT
END:VCALENDAR